BEGIN:VCALENDAR
VERSION:2.0
PRODID:-//Tukios.com/
BEGIN:VEVENT
UID:777910b4-007f-4751-aa4e-69c65d5198e7@www.deibelsfh.com
DTSTAMP:20260423T083354Z
DTSTART:20260423T180000Z
DTEND:20260423T230000Z
SUMMARY:Gathering of Family & Friends
DESCRIPTION:
URL:https://www.deibelsfh.com/obituaries/william-weigle
LOCATION: 601 Gordon Rd  Monticello IN 47960
GEO:40.7297432;-86.7744784
END:VEVENT
END:VCALENDAR