BEGIN:VCALENDAR
VERSION:2.0
PRODID:-//Tukios.com/
BEGIN:VEVENT
UID:5b18fff3-8efd-467a-b006-d5e23a70b07e@www.deibelsfh.com
DTSTAMP:20260421T195610Z
DTSTART:20260423T230000Z
DTEND:20260423T231500Z
SUMMARY:Full Military Rite
DESCRIPTION:
URL:https://www.deibelsfh.com/obituaries/william-weigle
LOCATION: 601 Gordon Rd  Monticello IN 47960
GEO:40.7297432;-86.7744784
END:VEVENT
END:VCALENDAR